BEGIN:VCALENDAR
VERSION:2.0
PRODID:-//Wandering Cooks - ECPv4.9.9//NONSGML v1.0//EN
CALSCALE:GREGORIAN
METHOD:PUBLISH
X-WR-CALNAME:Wandering Cooks
X-ORIGINAL-URL:https://wanderingcooks.com.au
X-WR-CALDESC:Events for Wandering Cooks
BEGIN:VTIMEZONE
TZID:Australia/Brisbane
BEGIN:STANDARD
TZOFFSETFROM:+1000
TZOFFSETTO:+1000
TZNAME:AEST
DTSTART:20200101T000000
END:STANDARD
END:VTIMEZONE
BEGIN:VEVENT
DTSTART;TZID=Australia/Brisbane:20200228T063000
DTEND;TZID=Australia/Brisbane:20200228T140000
DTSTAMP:20200227T145104
CREATED:20190114T003349Z
LAST-MODIFIED:20200216T102912Z
UID:19003-1582871400-1582898400@wanderingcooks.com.au
SUMMARY:BREAKFAST: Tea & Coffee + indietreats
DESCRIPTION:Tea & Coffee plus smaller meals and snacks are available every day from Tea & Coffee spot under the garden wall. \n6:30am – 10:30am indietreats\nrun by Tanya Krikke\, her bowls are plant-based and full of indie pizazz \n  \n  \n
URL:https://wanderingcooks.com.au/event/breakfast-diy-breakfast-coffee-2019-11-04-2019-12-16/2020-02-28/
CATEGORIES:Daily Food Maker,vegan friendly,vegetarian friendly,weekly event
ATTACH;FMTTYPE=image/jpeg:https://wanderingcooks.com.au/wp-content/uploads/2018/08/Coffee-Snacks-1.jpg
END:VEVENT
BEGIN:VEVENT
DTSTART;TZID=Australia/Brisbane:20200228T110000
DTEND;TZID=Australia/Brisbane:20200228T153000
DTSTAMP:20200227T145104
CREATED:20180823T055127Z
LAST-MODIFIED:20180823T055127Z
UID:19406-1582887600-1582903800@wanderingcooks.com.au
SUMMARY:LUNCH: indie treats + Bond St Eats + East by Middle East
DESCRIPTION:indie treats – open till 2pm\nrun by Tanya Krikke\, her bowls are plant-based and full of indie pizazz \n11:30am – East By Middle East\nAtena takes the helm and serves Persian and Punjabi inspired goodness for dinner \n11:30am – Bond St Eats – open till 2pm\nrun by Elaine Hall\, serving fresh bowls packed full with fresh veggies and more \nTEA & COFFEE\nopen till 2pm \nBAR\nopen from 12pm \nBook a table here >>\n  \n  \n
URL:https://wanderingcooks.com.au/event/lunch-indie-treats-bond-st-eats-east-by-middle-east/2020-02-28/
CATEGORIES:Daily Food Maker,Deli,vegan friendly,vegetarian friendly,weekly event
ATTACH;FMTTYPE=image/jpeg:https://wanderingcooks.com.au/wp-content/uploads/2018/08/Indie-Treats-1.jpg
END:VEVENT
BEGIN:VEVENT
DTSTART;TZID=Australia/Brisbane:20200228T153000
DTEND;TZID=Australia/Brisbane:20200228T230000
DTSTAMP:20200227T145104
CREATED:20190108T030752Z
LAST-MODIFIED:20200123T024454Z
UID:19433-1582903800-1582930800@wanderingcooks.com.au
SUMMARY:DINNER: indie treats + East by Middle East + El Planta + Asador
DESCRIPTION:indie treats\nrun by Tanya Krikke\, her bowls are plant-based and full of indie pizazz \nEast By Middle East\nAtena takes the helm and serves Persian and Punjabi inspired goodness for dinner \n5:30pm – El Planta\nrun by Adrienne and Rick\, provide a new delicious\, plant based taste to Mexican food \n5pm – Asador\nrun by Luis\, serving Argentinian BBQ with their own house made bread \nBAR\nopen till 11pm \nBook a table here >>\n  \n  \n
URL:https://wanderingcooks.com.au/event/dinner-indie-treats-east-by-middle-east-el-planta-asador-2020-01-24/2020-02-28/
CATEGORIES:Daily Food Maker,vegan friendly,vegetarian friendly,weekly event
ATTACH;FMTTYPE=image/jpeg:https://wanderingcooks.com.au/wp-content/uploads/2019/01/El-planta-Feat.jpg
END:VEVENT
BEGIN:VEVENT
DTSTART;TZID=Australia/Brisbane:20200229T070000
DTEND;TZID=Australia/Brisbane:20200229T140000
DTSTAMP:20200227T145104
CREATED:20190108T033103Z
LAST-MODIFIED:20190108T033103Z
UID:19446-1582959600-1582984800@wanderingcooks.com.au
SUMMARY:BREAKFAST: Tea & Coffee + Kiya's Injera
DESCRIPTION:Kiya’s Injera\nKiya is our Queen of Injera as she blows us away with her delicious food from her homeland \nTEA & COFFEE\nopen till 2pm \nBAR\nopen from 12pm \nBook a table here >>\n  \n  \n
URL:https://wanderingcooks.com.au/event/brunch-coffee-kiyas-injera-smoky-mountain-hideaway-coffee-2019-11-30-2019-12-07/2020-02-29/
CATEGORIES:Daily Food Maker,vegan friendly,vegetarian friendly,weekly event
ATTACH;FMTTYPE=image/jpeg:https://wanderingcooks.com.au/wp-content/uploads/2019/01/Sat-Morn-Breakfast_Featured.jpg
END:VEVENT
BEGIN:VEVENT
DTSTART;TZID=Australia/Brisbane:20200229T120000
DTEND;TZID=Australia/Brisbane:20200229T170000
DTSTAMP:20200227T145104
CREATED:20190108T040225Z
LAST-MODIFIED:20200216T102044Z
UID:19460-1582977600-1582995600@wanderingcooks.com.au
SUMMARY:LUNCH: Kiya's Injera + East by Middle East + El Planta
DESCRIPTION:12pm – East By Middle East\nAtena takes the helm and serves Persian and Punjabi inspired goodness for dinner \n12pm – Kiya’s Injera\nKiya is our Queen of Injera as she blows us away with her delicious food from her homeland \n3pm – El Planta\nrun by Adrienne and Rick\, provide a new delicious\, plant based taste to Mexican food \nTEA & COFFEE\nopen till 2pm \nBAR\nopen from 12pm \nBook a table here >>\n  \n  \n
URL:https://wanderingcooks.com.au/event/kiyas-injera-east-by-middle-east-2019-03-30-2019-05-25-2019-08-24-2019-11-30-2019-12-07-2020-01-18-2020-02-22/2020-02-29/
CATEGORIES:Daily Food Maker,vegan friendly,vegetarian friendly,weekly event
ATTACH;FMTTYPE=image/jpeg:https://wanderingcooks.com.au/wp-content/uploads/2019/01/kiya-featured.jpg
END:VEVENT
BEGIN:VEVENT
DTSTART;TZID=Australia/Brisbane:20200229T170000
DTEND;TZID=Australia/Brisbane:20200229T230000
DTSTAMP:20200227T145104
CREATED:20190108T042040Z
LAST-MODIFIED:20200123T030902Z
UID:19420-1582995600-1583017200@wanderingcooks.com.au
SUMMARY:DINNER: Kiya's Injera + East by Middle East + El Planta
DESCRIPTION:Kiya’s Injera\nKiya is our Queen of Injera as she blows us away with her delicious food from her homeland \nEast By Middle East\nAtena & Bal take the helm and serves Persian and Punjabi inspired goodness for dinner \nEl Planta\nrun by Adrienne and Rick\, provide a new delicious\, plant based taste to Mexican food \nBAR\nopen till 11pm \nBook a table here >>\n  \n  \n
URL:https://wanderingcooks.com.au/event/saturday-dinner-2020-01-25-2020-01-25/2020-02-29/
CATEGORIES:Daily Food Maker,vegan friendly,vegetarian friendly,weekly event
ATTACH;FMTTYPE=image/jpeg:https://wanderingcooks.com.au/wp-content/uploads/2018/08/Kiya-Featured.jpg
END:VEVENT
BEGIN:VEVENT
DTSTART;TZID=Australia/Brisbane:20200301T070000
DTEND;TZID=Australia/Brisbane:20200301T140000
DTSTAMP:20200227T145104
CREATED:20190108T043352Z
LAST-MODIFIED:20190108T043352Z
UID:19473-1583046000-1583071200@wanderingcooks.com.au
SUMMARY:BREAKFAST: Tea + Coffee + indietreats + The Cairo Eatery
DESCRIPTION:indietreats\nrun by Tanya Krikke\, her bowls are plant-based and full of indie pizazz \nThe Cairo Eatery\nrun by Fatima\, her passion for real Egyptian food shines through \nTEA & COFFEE\nopen till 2pm \nBAR\nopen from 12pm \nBook a table here >>\n  \n  \n
URL:https://wanderingcooks.com.au/event/breakfast-indie-treats-the-steepery-cairo-eatery-el-planta-diy-breakfast-2019-09-22-2019-12-01/2020-03-01/
CATEGORIES:Daily Food Maker,vegan friendly,vegetarian friendly
ATTACH;FMTTYPE=image/jpeg:https://wanderingcooks.com.au/wp-content/uploads/2017/08/Indietreats-Breakfast.jpg
END:VEVENT
BEGIN:VEVENT
DTSTART;TZID=Australia/Brisbane:20200301T120000
DTEND;TZID=Australia/Brisbane:20200301T170000
DTSTAMP:20200227T145104
CREATED:20190108T044025Z
LAST-MODIFIED:20200110T014430Z
UID:19486-1583064000-1583082000@wanderingcooks.com.au
SUMMARY:LUNCH: indie treats + Cairo Eatery + El Planta + Asador
DESCRIPTION:indie treats – Open till 2pm\nrun by Tanya Krikke\, her bowls are plant-based and full of indie pizazz \nAsador\nrun by Luis\, serving Argentinian BBQ with their own house made bread \nThe Cairo Eatery – Open till 1pm\nrun by Fatima\, her passion for real Egyptian food shines through \nEl Planta\nrun by Adrienne and Rick\, provide a new delicious\, plant based taste to Mexican food \nTEA & COFFEE\nopen till 2pm \nBAR\nopen from 12pm \nSunday Hot Club\nrotating gyspy jazz bands play for free. A Django Dream! 4-6pm every Sunday. \nBook a table here >>\n  \n  \n
URL:https://wanderingcooks.com.au/event/lunch-indie-treats-cairo-eatery-asador-el-planta-2019-12-01-2019-12-08/2020-03-01/
CATEGORIES:Daily Food Maker,vegan friendly,vegetarian friendly
ATTACH;FMTTYPE=image/jpeg:https://wanderingcooks.com.au/wp-content/uploads/2019/01/el-planta_Featured.jpg
END:VEVENT
BEGIN:VEVENT
DTSTART;TZID=Australia/Brisbane:20200301T170000
DTEND;TZID=Australia/Brisbane:20200301T203000
DTSTAMP:20200227T145104
CREATED:20190108T044557Z
LAST-MODIFIED:20200216T102205Z
UID:19499-1583082000-1583094600@wanderingcooks.com.au
SUMMARY:DINNER: Asador + El Planta + East by Middle East
DESCRIPTION:Asador\nrun by Luis and Claudia\, serving Argentinian BBQ with their own house made bread \nEl Planta\nrun by Adrienne and Rick\, provide a new delicious\, plant based taste to Mexican food \nEast By Middle East\nAtena takes the helm and serves Persian and Punjabi inspired goodness for dinner \nBAR\nopen till 8:30pm \nSunday Hot Club\nrotating gyspy jazz bands play for free. A Django Dream! 4-6pm every Sunday. \nBook a table here >>\n  \n  \n
URL:https://wanderingcooks.com.au/event/sunday-dinner-2020-02-23/2020-03-01/
CATEGORIES:Daily Food Maker,vegan friendly,vegetarian friendly
ATTACH;FMTTYPE=image/jpeg:https://wanderingcooks.com.au/wp-content/uploads/2019/01/Asador-3.jpg
END:VEVENT
BEGIN:VEVENT
DTSTART;TZID=Australia/Brisbane:20200302T063000
DTEND;TZID=Australia/Brisbane:20200302T140000
DTSTAMP:20200227T145104
CREATED:20190114T003349Z
LAST-MODIFIED:20200216T102913Z
UID:19004-1583130600-1583157600@wanderingcooks.com.au
SUMMARY:BREAKFAST: Tea & Coffee + indietreats
DESCRIPTION:Tea & Coffee plus smaller meals and snacks are available every day from Tea & Coffee spot under the garden wall. \n6:30am – 10:30am indietreats\nrun by Tanya Krikke\, her bowls are plant-based and full of indie pizazz \n  \n  \n
URL:https://wanderingcooks.com.au/event/breakfast-diy-breakfast-coffee-2019-11-04-2019-12-16/2020-03-02/
CATEGORIES:Daily Food Maker,vegan friendly,vegetarian friendly,weekly event
ATTACH;FMTTYPE=image/jpeg:https://wanderingcooks.com.au/wp-content/uploads/2018/08/Coffee-Snacks-1.jpg
END:VEVENT
BEGIN:VEVENT
DTSTART;TZID=Australia/Brisbane:20200302T113000
DTEND;TZID=Australia/Brisbane:20200302T143000
DTSTAMP:20200227T145104
CREATED:20190108T051814Z
LAST-MODIFIED:20190108T051814Z
UID:19594-1583148600-1583159400@wanderingcooks.com.au
SUMMARY:LUNCH: Bond St Eats
DESCRIPTION:11:30am – Bond St Eats\nrun by Elaine Hall\, serving fresh bowls packed full with fresh veggies and more for your Tuesday lunch \nTEA & COFFEE\nopen till 2pm \nBAR\nopen from 12pm \nBook a table here >>\n  \n  \n
URL:https://wanderingcooks.com.au/event/lunch-bond-st-eats-2019-11-11-2019-12-09-2020-02-17/2020-03-02/
CATEGORIES:Daily Food Maker,vegan friendly,weekly event
ATTACH;FMTTYPE=image/jpeg:https://wanderingcooks.com.au/wp-content/uploads/2019/06/Bond-St-Eats_feature.jpg
END:VEVENT
BEGIN:VEVENT
DTSTART;TZID=Australia/Brisbane:20200302T153000
DTEND;TZID=Australia/Brisbane:20200302T203000
DTSTAMP:20200227T145104
CREATED:20190610T024622Z
LAST-MODIFIED:20200110T015604Z
UID:19047-1583163000-1583181000@wanderingcooks.com.au
SUMMARY:Dinner: Bond St Eats + East by Middle East
DESCRIPTION:5pm – East By Middle East\nAtena takes the helm and serves Persian and Punjabi inspired goodness for dinner \nBond St Eats\nrun by Elaine Hall\, serving fresh bowls packed full with fresh veggies and more \nBAR\nopen till 8:30pm \nBook a table here >>\n  \n  \n  \n
URL:https://wanderingcooks.com.au/event/dinner-bond-st-eats-east-by-middle-east-2019-08-05-2019-12-09/2020-03-02/
CATEGORIES:vegan friendly,vegetarian friendly,weekly event
ATTACH;FMTTYPE=image/jpeg:https://wanderingcooks.com.au/wp-content/uploads/2019/06/Bond-St-Eats_feature.jpg
END:VEVENT
BEGIN:VEVENT
DTSTART;TZID=Australia/Brisbane:20200303T063000
DTEND;TZID=Australia/Brisbane:20200303T140000
DTSTAMP:20200227T145104
CREATED:20190114T003349Z
LAST-MODIFIED:20200216T102913Z
UID:19005-1583217000-1583244000@wanderingcooks.com.au
SUMMARY:BREAKFAST: Tea & Coffee + indietreats
DESCRIPTION:Tea & Coffee plus smaller meals and snacks are available every day from Tea & Coffee spot under the garden wall. \n6:30am – 10:30am indietreats\nrun by Tanya Krikke\, her bowls are plant-based and full of indie pizazz \n  \n  \n
URL:https://wanderingcooks.com.au/event/breakfast-diy-breakfast-coffee-2019-11-04-2019-12-16/2020-03-03/
CATEGORIES:Daily Food Maker,vegan friendly,vegetarian friendly,weekly event
ATTACH;FMTTYPE=image/jpeg:https://wanderingcooks.com.au/wp-content/uploads/2018/08/Coffee-Snacks-1.jpg
END:VEVENT
BEGIN:VEVENT
DTSTART;TZID=Australia/Brisbane:20200303T113000
DTEND;TZID=Australia/Brisbane:20200303T143000
DTSTAMP:20200227T145104
CREATED:20181003T114107Z
LAST-MODIFIED:20181003T114107Z
UID:19639-1583235000-1583245800@wanderingcooks.com.au
SUMMARY:LUNCH: Bond St Eats + Camille's Kitchen
DESCRIPTION:11:30am – Bond St Eats\nrun by Elaine Hall\, serving fresh bowls packed full with fresh veggies and more for your Tuesday lunch \n11:30am – Camille’s Kitchen\nSarah and her team made seasonal treats for us to enjoy every Thursday lunch \nTEA & COFFEE\nopen till 2pm \nBAR\nopen till 8:30pm \nBook a table here >>\n
URL:https://wanderingcooks.com.au/event/lunch-aburi-boi-street-food-2019-11-19-2019-12-10/2020-03-03/
CATEGORIES:Daily Food Maker,vegan friendly,vegetarian friendly,weekly event
ATTACH;FMTTYPE=image/jpeg:https://wanderingcooks.com.au/wp-content/uploads/2019/01/Bond_1.jpg
END:VEVENT
BEGIN:VEVENT
DTSTART;TZID=Australia/Brisbane:20200303T173000
DTEND;TZID=Australia/Brisbane:20200303T203000
DTSTAMP:20200227T145104
CREATED:20190108T013353Z
LAST-MODIFIED:20190108T013353Z
UID:19513-1583256600-1583267400@wanderingcooks.com.au
SUMMARY:DINNER: El Planta
DESCRIPTION:El Planta\nrun by Adrienne and Rick\, provide a new delicious\, plant based taste to Mexican food \nBAR\nopen till 8:30pm \nBook a table here >>\n
URL:https://wanderingcooks.com.au/event/elplanta/2020-03-03/
CATEGORIES:Daily Food Maker,vegan friendly,vegetarian friendly,weekly event
ATTACH;FMTTYPE=image/jpeg:https://wanderingcooks.com.au/wp-content/uploads/2019/03/elplantafeature.jpg
END:VEVENT
BEGIN:VEVENT
DTSTART;TZID=Australia/Brisbane:20200304T063000
DTEND;TZID=Australia/Brisbane:20200304T140000
DTSTAMP:20200227T145104
CREATED:20190114T003349Z
LAST-MODIFIED:20200216T102913Z
UID:19006-1583303400-1583330400@wanderingcooks.com.au
SUMMARY:BREAKFAST: Tea & Coffee + indietreats
DESCRIPTION:Tea & Coffee plus smaller meals and snacks are available every day from Tea & Coffee spot under the garden wall. \n6:30am – 10:30am indietreats\nrun by Tanya Krikke\, her bowls are plant-based and full of indie pizazz \n  \n  \n
URL:https://wanderingcooks.com.au/event/breakfast-diy-breakfast-coffee-2019-11-04-2019-12-16/2020-03-04/
CATEGORIES:Daily Food Maker,vegan friendly,vegetarian friendly,weekly event
ATTACH;FMTTYPE=image/jpeg:https://wanderingcooks.com.au/wp-content/uploads/2018/08/Coffee-Snacks-1.jpg
END:VEVENT
BEGIN:VEVENT
DTSTART;TZID=Australia/Brisbane:20200304T113000
DTEND;TZID=Australia/Brisbane:20200304T143000
DTSTAMP:20200227T145104
CREATED:20180823T055127Z
LAST-MODIFIED:20200223T083254Z
UID:19941-1583321400-1583332200@wanderingcooks.com.au
SUMMARY:LUNCH: indie treats + Bond St Eats
DESCRIPTION:indie treats\nrun by Tanya Krikke\, her bowls are plant-based and full of indie pizazz \n11:30am – Bond St Eats\nrun by Elaine Hall\, serving fresh bowls packed full with fresh veggies and more \nTEA & COFFEE\nopen till 2pm \nBAR\nopen from 12pm \nBook a table here >>\n
URL:https://wanderingcooks.com.au/event/lunch-indie-treats-bond-st-eats-2020-02-26/2020-03-04/
CATEGORIES:Daily Food Maker,Deli,vegan friendly,vegetarian friendly,weekly event
ATTACH;FMTTYPE=image/jpeg:https://wanderingcooks.com.au/wp-content/uploads/2019/01/Bond_1.jpg
END:VEVENT
BEGIN:VEVENT
DTSTART;TZID=Australia/Brisbane:20200304T170000
DTEND;TZID=Australia/Brisbane:20200304T213000
DTSTAMP:20200227T145104
CREATED:20190325T070044Z
LAST-MODIFIED:20190325T070044Z
UID:19948-1583341200-1583357400@wanderingcooks.com.au
SUMMARY:DINNER: East by Middle East + El Planta
DESCRIPTION:5pm – East By Middle East\nAtena takes the helm and serves Persian and Punjabi inspired goodness for dinner \n5:30pm – El Planta\nrun by Adrienne and Rick\, provide a new delicious\, plant based taste to Mexican food \nBAR\nopen till 9:30pm \nBook a table here >>\n
URL:https://wanderingcooks.com.au/event/dinner-east-by-middle-east-el-planta-2019-08-07-2019-09-18-2019-12-18-2020-02-26/2020-03-04/
CATEGORIES:Daily Food Maker,vegan friendly,vegetarian friendly,weekly event
ATTACH;FMTTYPE=image/jpeg:https://wanderingcooks.com.au/wp-content/uploads/2019/03/elplantafeature.jpg
END:VEVENT
BEGIN:VEVENT
DTSTART;TZID=Australia/Brisbane:20200305T063000
DTEND;TZID=Australia/Brisbane:20200305T140000
DTSTAMP:20200227T145104
CREATED:20190114T003349Z
LAST-MODIFIED:20200216T102913Z
UID:19007-1583389800-1583416800@wanderingcooks.com.au
SUMMARY:BREAKFAST: Tea & Coffee + indietreats
DESCRIPTION:Tea & Coffee plus smaller meals and snacks are available every day from Tea & Coffee spot under the garden wall. \n6:30am – 10:30am indietreats\nrun by Tanya Krikke\, her bowls are plant-based and full of indie pizazz \n  \n  \n
URL:https://wanderingcooks.com.au/event/breakfast-diy-breakfast-coffee-2019-11-04-2019-12-16/2020-03-05/
CATEGORIES:Daily Food Maker,vegan friendly,vegetarian friendly,weekly event
ATTACH;FMTTYPE=image/jpeg:https://wanderingcooks.com.au/wp-content/uploads/2018/08/Coffee-Snacks-1.jpg
END:VEVENT
BEGIN:VEVENT
DTSTART;TZID=Australia/Brisbane:20200305T113000
DTEND;TZID=Australia/Brisbane:20200305T153000
DTSTAMP:20200227T145104
CREATED:20190909T055633Z
LAST-MODIFIED:20190909T055633Z
UID:19381-1583407800-1583422200@wanderingcooks.com.au
SUMMARY:Lunch: East by Middle East + Bond St Eats + Camille's Kitchen + indietreats
DESCRIPTION:East By Middle East\nAtena takes the helm and serves Persian and Punjabi inspired goodness for dinner \nCamille’s Kitchen – Open till 2pm\nSarah and her team made seasonal treats for us to enjoy every Thursday lunch \nBond St Eats – Open till 2pm\n\nrun by Elaine Hall\, serving fresh bowls packed full with fresh veggies and more \nindie treats – Open till 2pm\nrun by Tanya Krikke\, her bowls are plant-based and full of indie pizazz \nTEA & COFFEE\nopen till 2pm \nBAR\nopen from 12pm \nBook a table here >>\n  \n  \n
URL:https://wanderingcooks.com.au/event/lunch-east-by-middle-east-bond-st-eats-camilles-kitchen-2019-12-19/2020-03-05/
CATEGORIES:Daily Food Maker,vegetarian friendly
ATTACH;FMTTYPE=image/jpeg:https://wanderingcooks.com.au/wp-content/uploads/2018/08/Camilles-Kitchen_Featured.jpg
END:VEVENT
BEGIN:VEVENT
DTSTART;TZID=Australia/Brisbane:20200305T170000
DTEND;TZID=Australia/Brisbane:20200305T213000
DTSTAMP:20200227T145104
CREATED:20190909T060649Z
LAST-MODIFIED:20190909T060649Z
UID:19395-1583427600-1583443800@wanderingcooks.com.au
SUMMARY:DINNER: East by Middle East + El Planta
DESCRIPTION:5pm – East By Middle East\nAtena takes the helm and serves Persian and Punjabi inspired goodness for dinner \n5:30pm – El Planta\nrun by Adrienne and Rick\, provide a new delicious\, plant based taste to Mexican food \nBAR\nopen till 9:30pm \nBook a table here >>\n  \n  \n
URL:https://wanderingcooks.com.au/event/dinner-east-by-middle-east-aburi-boi-street-food-bond-st-eats-2019-09-12-2-2019-10-03-2019-12-05/2020-03-05/
CATEGORIES:Daily Food Maker,vegan friendly,vegetarian friendly
ATTACH;FMTTYPE=image/jpeg:https://wanderingcooks.com.au/wp-content/uploads/2019/01/East-by-Middle-East-1.jpg
END:VEVENT
BEGIN:VEVENT
DTSTART;TZID=Australia/Brisbane:20200306T063000
DTEND;TZID=Australia/Brisbane:20200306T140000
DTSTAMP:20200227T145104
CREATED:20190114T003349Z
LAST-MODIFIED:20200216T102913Z
UID:19008-1583476200-1583503200@wanderingcooks.com.au
SUMMARY:BREAKFAST: Tea & Coffee + indietreats
DESCRIPTION:Tea & Coffee plus smaller meals and snacks are available every day from Tea & Coffee spot under the garden wall. \n6:30am – 10:30am indietreats\nrun by Tanya Krikke\, her bowls are plant-based and full of indie pizazz \n  \n  \n
URL:https://wanderingcooks.com.au/event/breakfast-diy-breakfast-coffee-2019-11-04-2019-12-16/2020-03-06/
CATEGORIES:Daily Food Maker,vegan friendly,vegetarian friendly,weekly event
ATTACH;FMTTYPE=image/jpeg:https://wanderingcooks.com.au/wp-content/uploads/2018/08/Coffee-Snacks-1.jpg
END:VEVENT
BEGIN:VEVENT
DTSTART;TZID=Australia/Brisbane:20200306T110000
DTEND;TZID=Australia/Brisbane:20200306T153000
DTSTAMP:20200227T145104
CREATED:20180823T055127Z
LAST-MODIFIED:20180823T055127Z
UID:19407-1583492400-1583508600@wanderingcooks.com.au
SUMMARY:LUNCH: indie treats + Bond St Eats + East by Middle East
DESCRIPTION:indie treats – open till 2pm\nrun by Tanya Krikke\, her bowls are plant-based and full of indie pizazz \n11:30am – East By Middle East\nAtena takes the helm and serves Persian and Punjabi inspired goodness for dinner \n11:30am – Bond St Eats – open till 2pm\nrun by Elaine Hall\, serving fresh bowls packed full with fresh veggies and more \nTEA & COFFEE\nopen till 2pm \nBAR\nopen from 12pm \nBook a table here >>\n  \n  \n
URL:https://wanderingcooks.com.au/event/lunch-indie-treats-bond-st-eats-east-by-middle-east/2020-03-06/
CATEGORIES:Daily Food Maker,Deli,vegan friendly,vegetarian friendly,weekly event
ATTACH;FMTTYPE=image/jpeg:https://wanderingcooks.com.au/wp-content/uploads/2018/08/Indie-Treats-1.jpg
END:VEVENT
BEGIN:VEVENT
DTSTART;TZID=Australia/Brisbane:20200306T153000
DTEND;TZID=Australia/Brisbane:20200306T230000
DTSTAMP:20200227T145104
CREATED:20190108T030752Z
LAST-MODIFIED:20200123T024455Z
UID:19434-1583508600-1583535600@wanderingcooks.com.au
SUMMARY:DINNER: indie treats + East by Middle East + El Planta + Asador
DESCRIPTION:indie treats\nrun by Tanya Krikke\, her bowls are plant-based and full of indie pizazz \nEast By Middle East\nAtena takes the helm and serves Persian and Punjabi inspired goodness for dinner \n5:30pm – El Planta\nrun by Adrienne and Rick\, provide a new delicious\, plant based taste to Mexican food \n5pm – Asador\nrun by Luis\, serving Argentinian BBQ with their own house made bread \nBAR\nopen till 11pm \nBook a table here >>\n  \n  \n
URL:https://wanderingcooks.com.au/event/dinner-indie-treats-east-by-middle-east-el-planta-asador-2020-01-24/2020-03-06/
CATEGORIES:Daily Food Maker,vegan friendly,vegetarian friendly,weekly event
ATTACH;FMTTYPE=image/jpeg:https://wanderingcooks.com.au/wp-content/uploads/2019/01/El-planta-Feat.jpg
END:VEVENT
BEGIN:VEVENT
DTSTART;TZID=Australia/Brisbane:20200307T070000
DTEND;TZID=Australia/Brisbane:20200307T140000
DTSTAMP:20200227T145104
CREATED:20190108T033103Z
LAST-MODIFIED:20190108T033103Z
UID:19447-1583564400-1583589600@wanderingcooks.com.au
SUMMARY:BREAKFAST: Tea & Coffee + Kiya's Injera
DESCRIPTION:Kiya’s Injera\nKiya is our Queen of Injera as she blows us away with her delicious food from her homeland \nTEA & COFFEE\nopen till 2pm \nBAR\nopen from 12pm \nBook a table here >>\n  \n  \n
URL:https://wanderingcooks.com.au/event/brunch-coffee-kiyas-injera-smoky-mountain-hideaway-coffee-2019-11-30-2019-12-07/2020-03-07/
CATEGORIES:Daily Food Maker,vegan friendly,vegetarian friendly,weekly event
ATTACH;FMTTYPE=image/jpeg:https://wanderingcooks.com.au/wp-content/uploads/2019/01/Sat-Morn-Breakfast_Featured.jpg
END:VEVENT
BEGIN:VEVENT
DTSTART;TZID=Australia/Brisbane:20200307T120000
DTEND;TZID=Australia/Brisbane:20200307T170000
DTSTAMP:20200227T145104
CREATED:20190108T040225Z
LAST-MODIFIED:20200216T102045Z
UID:19461-1583582400-1583600400@wanderingcooks.com.au
SUMMARY:LUNCH: Kiya's Injera + East by Middle East + El Planta
DESCRIPTION:12pm – East By Middle East\nAtena takes the helm and serves Persian and Punjabi inspired goodness for dinner \n12pm – Kiya’s Injera\nKiya is our Queen of Injera as she blows us away with her delicious food from her homeland \n3pm – El Planta\nrun by Adrienne and Rick\, provide a new delicious\, plant based taste to Mexican food \nTEA & COFFEE\nopen till 2pm \nBAR\nopen from 12pm \nBook a table here >>\n  \n  \n
URL:https://wanderingcooks.com.au/event/kiyas-injera-east-by-middle-east-2019-03-30-2019-05-25-2019-08-24-2019-11-30-2019-12-07-2020-01-18-2020-02-22/2020-03-07/
CATEGORIES:Daily Food Maker,vegan friendly,vegetarian friendly,weekly event
ATTACH;FMTTYPE=image/jpeg:https://wanderingcooks.com.au/wp-content/uploads/2019/01/kiya-featured.jpg
END:VEVENT
BEGIN:VEVENT
DTSTART;TZID=Australia/Brisbane:20200307T170000
DTEND;TZID=Australia/Brisbane:20200307T230000
DTSTAMP:20200227T145104
CREATED:20190108T042040Z
LAST-MODIFIED:20200123T030903Z
UID:19421-1583600400-1583622000@wanderingcooks.com.au
SUMMARY:DINNER: Kiya's Injera + East by Middle East + El Planta
DESCRIPTION:Kiya’s Injera\nKiya is our Queen of Injera as she blows us away with her delicious food from her homeland \nEast By Middle East\nAtena & Bal take the helm and serves Persian and Punjabi inspired goodness for dinner \nEl Planta\nrun by Adrienne and Rick\, provide a new delicious\, plant based taste to Mexican food \nBAR\nopen till 11pm \nBook a table here >>\n  \n  \n
URL:https://wanderingcooks.com.au/event/saturday-dinner-2020-01-25-2020-01-25/2020-03-07/
CATEGORIES:Daily Food Maker,vegan friendly,vegetarian friendly,weekly event
ATTACH;FMTTYPE=image/jpeg:https://wanderingcooks.com.au/wp-content/uploads/2018/08/Kiya-Featured.jpg
END:VEVENT
BEGIN:VEVENT
DTSTART;TZID=Australia/Brisbane:20200308T070000
DTEND;TZID=Australia/Brisbane:20200308T140000
DTSTAMP:20200227T145104
CREATED:20200110T013726Z
LAST-MODIFIED:20200110T013726Z
UID:19468-1583650800-1583676000@wanderingcooks.com.au
SUMMARY:BREAKFAST: Tea + Coffee + indietreats + The Steepery + The Cairo Eatery
DESCRIPTION:indietreats\nrun by Tanya Krikke\, her bowls are plant-based and full of indie pizazz \nThe Steepery\nrun by Kym Cooper\, serving perfectly steeped tea sourced ethically from all over the world every second Sunday of every month \nThe Cairo Eatery\nrun by Fatima\, her passion for real Egyptian food shines through \nTEA & COFFEE\nopen till 2pm \nBAR\nopen from 12pm \nBook a table here >>\n  \n  \n
URL:https://wanderingcooks.com.au/event/breakfast-indie-treats-the-steepery-cairo-eatery-el-planta-diy-breakfast-2019-09-22-2019-12-01-2-2/
CATEGORIES:Daily Food Maker,vegan friendly,vegetarian friendly
ATTACH;FMTTYPE=image/jpeg:https://wanderingcooks.com.au/wp-content/uploads/2017/08/Indietreats-Breakfast.jpg
END:VEVENT
BEGIN:VEVENT
DTSTART;TZID=Australia/Brisbane:20200308T120000
DTEND;TZID=Australia/Brisbane:20200308T170000
DTSTAMP:20200227T145104
CREATED:20190108T044025Z
LAST-MODIFIED:20200110T014431Z
UID:19487-1583668800-1583686800@wanderingcooks.com.au
SUMMARY:LUNCH: indie treats + Cairo Eatery + El Planta + Asador
DESCRIPTION:indie treats – Open till 2pm\nrun by Tanya Krikke\, her bowls are plant-based and full of indie pizazz \nAsador\nrun by Luis\, serving Argentinian BBQ with their own house made bread \nThe Cairo Eatery – Open till 1pm\nrun by Fatima\, her passion for real Egyptian food shines through \nEl Planta\nrun by Adrienne and Rick\, provide a new delicious\, plant based taste to Mexican food \nTEA & COFFEE\nopen till 2pm \nBAR\nopen from 12pm \nSunday Hot Club\nrotating gyspy jazz bands play for free. A Django Dream! 4-6pm every Sunday. \nBook a table here >>\n  \n  \n
URL:https://wanderingcooks.com.au/event/lunch-indie-treats-cairo-eatery-asador-el-planta-2019-12-01-2019-12-08/2020-03-08/
CATEGORIES:Daily Food Maker,vegan friendly,vegetarian friendly
ATTACH;FMTTYPE=image/jpeg:https://wanderingcooks.com.au/wp-content/uploads/2019/01/el-planta_Featured.jpg
END:VEVENT
BEGIN:VEVENT
DTSTART;TZID=Australia/Brisbane:20200308T170000
DTEND;TZID=Australia/Brisbane:20200308T203000
DTSTAMP:20200227T145104
CREATED:20190108T044557Z
LAST-MODIFIED:20200216T102206Z
UID:19500-1583686800-1583699400@wanderingcooks.com.au
SUMMARY:DINNER: Asador + El Planta + East by Middle East
DESCRIPTION:Asador\nrun by Luis and Claudia\, serving Argentinian BBQ with their own house made bread \nEl Planta\nrun by Adrienne and Rick\, provide a new delicious\, plant based taste to Mexican food \nEast By Middle East\nAtena takes the helm and serves Persian and Punjabi inspired goodness for dinner \nBAR\nopen till 8:30pm \nSunday Hot Club\nrotating gyspy jazz bands play for free. A Django Dream! 4-6pm every Sunday. \nBook a table here >>\n  \n  \n
URL:https://wanderingcooks.com.au/event/sunday-dinner-2020-02-23/2020-03-08/
CATEGORIES:Daily Food Maker,vegan friendly,vegetarian friendly
ATTACH;FMTTYPE=image/jpeg:https://wanderingcooks.com.au/wp-content/uploads/2019/01/Asador-3.jpg
END:VEVENT
END:VCALENDAR